BEGIN:VCALENDAR
VERSION:2.0
BEGIN:VEVENT
URL:https://www.networkinaction.com/index.php/events/viewevent/9983-networking-open-house?groupid=166 
DTSTART:20220811T160000
DTEND:20220811T170000
SUMMARY:Networking Open House
DESCRIPTION:Networking Open House
LOCATION:Stonewood Grill and Tavern, 1210 International Parkway, Lake Mary, FL 32746
END:VEVENT
END:VCALENDAR