BEGIN:VCALENDAR
VERSION:2.0
BEGIN:VEVENT
URL:https://www.networkinaction.com/index.php/events/viewevent/9981-august-18th-lunch-meeting-at-blue-onyx-bistro?groupid=14 
DTSTART:20220818T113000
DTEND:20220818T130000
SUMMARY:August 18th Lunch Meeting at Blue Onyx Bistro
DESCRIPTION:<p>Join us for a delicious lunch at the Blue Onyx Bistro. All Cougar Connection Members and guests are invited. Lunch entrees range from 16 to 28.</p><br /><br />
LOCATION:Blue Onyx Bistro 4720 Richmond, TX 77027
END:VEVENT
END:VCALENDAR