BEGIN:VCALENDAR
VERSION:2.0
BEGIN:VEVENT
URL:https://www.networkinaction.com/index.php/events/viewevent/9951-vbf-august-smoker?groupid=147 
DTSTART:20220811T170000
DTEND:20220811T203000
SUMMARY:VBF August Smoker
DESCRIPTION:<p>An informal cigar smoker gathering and networking event for Veteran Business Owners being hosted by Network In Action Veterans Business Force and Houston Regional Veterans Business Chamber.
</p><p>You don't have to smoke cigars or be a veteran to attend.
</p><p>Casa de Montecristo
</p><p>2901 West Loop South
</p><p>Houston, Texas 77027
</p><p>Brought to you by Network In Action Veterans Business Force, Houston Regional Veterans Chamber of Commerce, and Marketing Dynamics</p>
LOCATION:Casa de Montecristo, 2901 West Loop South
END:VEVENT
END:VCALENDAR