BEGIN:VCALENDAR
VERSION:2.0
BEGIN:VEVENT
URL:https://www.networkinaction.com/index.php/events/viewevent/9925-launch-n-learn-thursday-august-11th-3-00pm-https-bit-ly-launchnlearn-nia?groupid=136 
DTSTART:20220811T150000
DTEND:20220811T160000
SUMMARY:Launch 'n Learn - Thursday, August 11th @ 3:00pm -  https://bit.ly/LaunchnLearn-NIA
DESCRIPTION:<p>This meeting is for all members who want to share the NIA difference with people they know like and trust and to network.  Join in at https://bit.ly/LaunchnLearn-NIA.</p>
LOCATION:Virtual 
END:VEVENT
END:VCALENDAR