BEGIN:VCALENDAR
VERSION:2.0
BEGIN:VEVENT
URL:https://www.networkinaction.com/index.php/events/viewevent/9922-mandatory-members-meeting-tuesday-august-9th-9-00am-via-zoomwithdrroundtree-com?groupid=216 
DTSTART:20220809T090000
DTEND:20220809T100000
SUMMARY:Mandatory Members' Meeting - Tuesday, August 9th @ 9:00am via zoomwithdrroundtree.com
DESCRIPTION:Let's connect on Tuesday, August 9th at 9:00 am for our mandatory monthly meeting.  This is where we check in to see how we can support one another's business growth. We will also have one or two members showcase their businesses.
LOCATION:Virtual @ zoomwithdrroundtree.com
END:VEVENT
END:VCALENDAR