BEGIN:VCALENDAR
VERSION:2.0
BEGIN:VEVENT
URL:https://www.networkinaction.com/index.php/events/viewevent/9898-cy-fair-connectors-monthly-meeting?groupid=12 
DTSTART:20220816T150000
DTEND:20220816T163000
SUMMARY:Cy-Fair Connectors  Monthly Meeting
DESCRIPTION:August Meeting, please come with ideas for our charity event.
LOCATION:World of Beer, 9945 Barker Cypress Rd., Cypress, 77433
END:VEVENT
END:VCALENDAR