BEGIN:VCALENDAR
VERSION:2.0
BEGIN:VEVENT
URL:https://www.networkinaction.com/index.php/events/viewevent/9892-music-city-monthly-meeting-3-30-pm-to-5-00-pm-cst?groupid=212 
DTSTART:20220809T153000
DTEND:20220809T170000
SUMMARY:Music City Monthly Meeting | 3:30 pm to 5:00 pm CST
DESCRIPTION:<p>Our monthly meeting is always the 2nd Tuesday from 3:30 pm to 5:00 pm CST at InDo Nashville (co-working and event space). Please RSVP and confirm with Shannon 615-210-4257.
</p>
<p>I highly encourage you to reach out to other members before the meeting and plan to grab dinner or enjoy cocktails at nearby establishments, such as City Winery or Tennessee Brew Works.  You could even arrange to hold one-on-ones after the meeting, since everyone has busy schedules.
</p><p>I look forward to seeing you there!
</p><p><i>The novel Coronavirus (COVID-19) has been declared a global pandemic by the World Health Organization (WHO). I understand that COVID-19 is extremely contagious. Attending events acknowledges you knowingly and willingly consent not to hold Network In Action at fault for attending any live events leading to possible exposure.</i></p>


LOCATION:632 Fogg St, Nashville, TN 37203
END:VEVENT
END:VCALENDAR