BEGIN:VCALENDAR
VERSION:2.0
BEGIN:VEVENT
URL:https://www.networkinaction.com/index.php/events/viewevent/9888-business-owners-looking-to-collaborate-with-the-best-of-the-best?groupid=236 
DTSTART:20220809T150000
DTEND:20220809T163000
SUMMARY:Business Owners Looking to Collaborate With The Best Of The Best!
DESCRIPTION:<p>Through the mastermind exchange of ideas and feedback, group members will help other network more effectively. Creating an ongoing win-win partnership with each and every member is paramount to the success of the group and is the collective responsibility of the group.</p><p>If this sounds interesting, come check us out, your first visit is free! </p>
LOCATION:LU LU Craft Bar + Kitchen606 Columbia Point Drive, Richland, WA, 99352
END:VEVENT
END:VCALENDAR