BEGIN:VCALENDAR
VERSION:2.0
BEGIN:VEVENT
URL:https://www.networkinaction.com/index.php/events/viewevent/9887-business-owners-looking-to-collaborate-with-the-best-of-the-best?groupid=215 
DTSTART:20220810T150000
DTEND:20220810T163000
SUMMARY:Business Owners Looking to Collaborate With The Best Of The Best!
DESCRIPTION:<p>Through the mastermind exchange of ideas and feedback, group members will help other network more effectively. Creating an ongoing win-win partnership with each and every member is paramount to the success of the group and is the collective responsibility of the group.</p><p>If this sounds interesting, don't miss out! contact me today to learn more. </p>
LOCATION:Yakima, WA
END:VEVENT
END:VCALENDAR