BEGIN:VCALENDAR
VERSION:2.0
BEGIN:VEVENT
URL:https://www.networkinaction.com/index.php/events/viewevent/9881-cornhole-tournament-for-charity?groupid=223 
DTSTART:20220811T100000
DTEND:20220811T150000
SUMMARY:Cornhole Tournament for Charity!
DESCRIPTION:<p>Are you corn to be wild? Then we've got the summer event for you to sink your bean bag into! Whether you are a returning bean bag tosser, spectator, or joining us for the first time, we’d love to see you at our August Cornhole Tournament. We will be serving up games, prizes, breakfast, drinks, tunes by a live DJ, and bean bags full of fun!</p><p>Registration required by Friday, August 5th at 12pm (player and spectator tickets available). Please click on the link below for all the details.</p><p><a href="https://www.ibofspokane.com/event/august-11th-cornhole-tournament/">Details and Register HERE!</a></p><br /><p>ALL net proceeds collected from ticket sales + sponsorships + raffle tickets will be donated to our local charities and awarded during our 2022 Christmas Party & Charity Auction event.</p>
LOCATION:Craft & Gather | 4403 S Dishman Mica Road, Spokane Valley, WA 99206
END:VEVENT
END:VCALENDAR