BEGIN:VCALENDAR
VERSION:2.0
BEGIN:VEVENT
URL:https://www.networkinaction.com/index.php/events/viewevent/9880-member-meetup?groupid=237 
DTSTART:20220810T140000
DTEND:20220810T150000
SUMMARY:Member Meetup
DESCRIPTION:We're getting closer to that magical 11, but in the meantime, let's stay connected and develop relationships that last. :)<br />
LOCATION:Spitfire Bar & Grill 1660 13th Ave E, West Fargo, ND 58078
END:VEVENT
END:VCALENDAR