BEGIN:VCALENDAR
VERSION:2.0
BEGIN:VEVENT
URL:https://www.networkinaction.com/index.php/events/viewevent/9865-florida-forever-forward-inaugural-meeting?groupid=238 
DTSTART:20220810T163000
DTEND:20220810T180000
SUMMARY:Florida Forever Forward Inaugural Meeting
DESCRIPTION:<p>We are excited to announce that NIA's "Krewe Connectors of Tampa Bay" is ready to set sail!! We want you on board with us as we begin our journey to untold business success and growth!! Being part of "The Krewe" will allow you to be instantly connected with over 1700 like minded business owners and entrepreneurs throughout the nation who want to know who you are and how they can assist you in growing your business!! 
</p>
<p>Here is the link for your use:
</p><p>https://lnkd.in/eSZCrrKG
</p><p>Please message or call me with any questions!
</p><p>Thank you in advance for your support of "The Krewe!" 
</p><p>We look forward to having you "on board" on August 10th!!</p>




LOCATION:Virtual via ZOOM - https://lnkd.in/eSZCrrKG
END:VEVENT
END:VCALENDAR