BEGIN:VCALENDAR
VERSION:2.0
BEGIN:VEVENT
URL:https://www.networkinaction.com/index.php/events/viewevent/9840-nia-business-force-happy-hour?groupid=140 
DTSTART:20220728T170000
DTEND:20220728T203000
SUMMARY:NIA Business Force Happy Hour
DESCRIPTION:<p>Come out and enjoy an evening of fun and cheer with all the members of our NIA Business Force Groups. You are welcome to come at any time and stay as long as you like. We always have a great time, build stronger relationships, and sometimes even refer business at our happy hours. I hope you will join us!
</p>
<p>See you there!</p>
LOCATION:Goode Company Seafood, 10201 Katy Fwy #400, Houston, TX 77024
END:VEVENT
END:VCALENDAR