BEGIN:VCALENDAR
VERSION:2.0
BEGIN:VEVENT
URL:https://www.networkinaction.com/index.php/events/viewevent/9818-grab-a-cocktail-and-look-at-the-waterfront-in-renton?groupid=198 
DTSTART:20220804T160000
DTEND:20220804T183000
SUMMARY:Grab a cocktail and look at the waterfront in Renton
DESCRIPTION:Come and socialize with all the groups at the Dock & Drink in the Renton Hyatt at the Landing.  The event is open to all the NIA NW members.  

Register here: 
https://www.eventbrite.com/e/387744964627
LOCATION:Dock & Drink Bar 1053 Lake Washington Blvd N Renton, W…
END:VEVENT
END:VCALENDAR