BEGIN:VCALENDAR
VERSION:2.0
BEGIN:VEVENT
URL:https://www.networkinaction.com/index.php/events/viewevent/9808-summer-fun-3-00-heights-nia?groupid=1 
DTSTART:20220811T150000
DTEND:20220811T163000
SUMMARY:Summer Fun 3:00 Heights NIA
DESCRIPTION:
LOCATION:7620 Katy Fwy #305, Houston, TX 77024
END:VEVENT
END:VCALENDAR