BEGIN:VCALENDAR
VERSION:2.0
BEGIN:VEVENT
URL:https://www.networkinaction.com/index.php/events/viewevent/9786-nia-speaker-series-understanding-crypto-as-a-business-owner-don-t-become-a-dinosaur?groupid=136 
DTSTART:20220727T160000
DTEND:20220727T171500
SUMMARY:NIA - Speaker Series:  Understanding Crypto as a Business Owner, Don't Become a Dinosaur!
DESCRIPTION:<p>Sheldon is a seasoned entrepreneur and business development guru. Sheldon constantly seeks the opportunity to solve industry problems with novel solutions. Sheldon is well-versed in creating long term value within organizations and seizing market opportunities.</p>
LOCATION:Virtual
END:VEVENT
END:VCALENDAR