BEGIN:VCALENDAR
VERSION:2.0
BEGIN:VEVENT
URL:https://www.networkinaction.com/index.php/events/viewevent/9782-august-crowd-coach-session?groupid=258 
DTSTART:20220813T090000
DTEND:20220813T120000
SUMMARY:August Crowd Coach Session
DESCRIPTION:
LOCATION:8570 Rivers Avenue, North Charleston, SC 29406
END:VEVENT
END:VCALENDAR