BEGIN:VCALENDAR
VERSION:2.0
BEGIN:VEVENT
URL:https://www.networkinaction.com/index.php/events/viewevent/9766-nia-summer-social-monday-august-15th-4-6p-cst-mill-creek-brewing-optional?groupid=212 
DTSTART:20220815T160000
DTEND:20220815T180000
SUMMARY:NIA Summer Social | Monday August 15th 4-6p CST | Mill Creek Brewing [optional]
DESCRIPTION:<p>An optional social networking gathering of NIA members from all groups and their guests Monday August 15th 4-6p CST at Mill Creek Brewing in Nolensville. 
</p>
<p>Guests are welcome. I will buy the first Happy Hour drink for my NIA Members.
</p><p><b>I need a headcount at least one week prior. Please RSVP to Shannon 615-210-4257, so I can plan accordingly.
</b></p><p><i>The novel Coronavirus (COVID-19) has been declared a global pandemic by the World Health Organization (WHO). I understand that COVID-19 is extremely contagious. Attending events acknowledges you knowingly and willingly consent not to hold Network In Action at fault for attending any live events leading to possible exposure.</i></p>


LOCATION:Mill Creek Brewing Co. > 2008 B Johnson Industrial Blvd, Nolensville, Tennessee 37135
END:VEVENT
END:VCALENDAR