BEGIN:VCALENDAR
VERSION:2.0
BEGIN:VEVENT
URL:https://www.networkinaction.com/index.php/events/viewevent/9741-launch-n-learn-with-nia-https-bit-ly-launchnlearn-nia?groupid=136 
DTSTART:20220712T000000
DTEND:20220712T000000
SUMMARY:Launch 'n Learn with NIA @ https://bit.ly/LaunchnLearn-NIA
DESCRIPTION:<p>This meeting shares how like-minded business professionals partner together to intentionally support one another's business growth.  If you know other like minded business leaders such as yourself who will bring value to our group, invite them to join in on Thursday, July 14th @ 3:00pm to discover more about NIA at https://bit.ly/LaunchnLearn-NIA</p>
LOCATION:https://bit.ly/LaunchnLearn-NIA
END:VEVENT
END:VCALENDAR