BEGIN:VCALENDAR
VERSION:2.0
BEGIN:VEVENT
URL:https://www.networkinaction.com/index.php/events/viewevent/9723-nia-hendersonville-july-member-meeting?groupid=252 
DTSTART:20220712T150000
DTEND:20220712T163000
SUMMARY:NIA - Hendersonville July Member Meeting! 
DESCRIPTION:
LOCATION:307 Indian Lake Blvd. Hendersonville, TN 37075
END:VEVENT
END:VCALENDAR