BEGIN:VCALENDAR
VERSION:2.0
BEGIN:VEVENT
URL:https://www.networkinaction.com/index.php/events/viewevent/9719-slbf-july-monthly-meeting?groupid=140 
DTSTART:20220713T150000
DTEND:20220713T163000
SUMMARY:SLBF July Monthly Meeting
DESCRIPTION:<p>It's time for our July meeting. Come out and join the members of Sugar Land Business Force for our monthly meeting to network with the elite business owners in our group. We have a great meeting planned and you will want to be there.
</p>
<br />
LOCATION:Churrascos, 1520 Lake Pointe Pkwy, Ste 500, Sugar Land, TX 77478
END:VEVENT
END:VCALENDAR