BEGIN:VCALENDAR
VERSION:2.0
BEGIN:VEVENT
URL:https://www.networkinaction.com/index.php/events/viewevent/9715-central-washington-online-networking?groupid=236 
DTSTART:20220816T113000
DTEND:20220816T123000
SUMMARY:Central Washington Online Networking
DESCRIPTION:<p> Now is the opportunity from the convenience of your computer, Business owners from Yakima to Tri-Cities wants to get to know you. </p>
LOCATION:Online https://heritage.zoom.us/u/avCNOU13G
END:VEVENT
END:VCALENDAR