BEGIN:VCALENDAR
VERSION:2.0
BEGIN:VEVENT
URL:https://www.networkinaction.com/index.php/events/viewevent/9690-heights-nia-monthly-meeting-3-00-to-4-30?groupid=1 
DTSTART:20220714T150000
DTEND:20220714T163000
SUMMARY:HEIGHTS NIA MONTHLY MEETING 3:00 to 4:30 
DESCRIPTION:New members to meet and guests checking us out. Please try and stay for a Happy Hour after our meeting 
LOCATION:7620 Katy Fwy #305, Houston, TX 77024
END:VEVENT
END:VCALENDAR