BEGIN:VCALENDAR
VERSION:2.0
BEGIN:VEVENT
URL:https://www.networkinaction.com/index.php/events/viewevent/9688-nia-social-mixer-majestic-ash-lounge-407-northwood-road-west-palm-beach-fl?groupid=133 
DTSTART:20220728T183000
DTEND:20220728T203000
SUMMARY:NIA - Social Mixer - Majestic Ash Lounge, 407 Northwood Road, West Palm Beach, FL
DESCRIPTION:<p>This monthly mixer is a time to socialize in an informal setting and to get to know, like, and trust each other.  Enjoy a free appetizer and drink on me.  Guests are welcome.  </p>
LOCATION:Majestic Ash Lounge, 407 Northwood Road, West Palm Beach, FL
END:VEVENT
END:VCALENDAR