BEGIN:VCALENDAR
VERSION:2.0
BEGIN:VEVENT
URL:https://www.networkinaction.com/index.php/events/viewevent/9684-general-mandatory-meeting?groupid=136 
DTSTART:20220712T090000
DTEND:20220712T100000
SUMMARY:General Mandatory Meeting
DESCRIPTION:Network in Action is all about building trusted relationships to intentionally support one another with referrals and connections to help grow and scale our businesses.  If you know of other like-minded professionals who can benefit from this professional networking group, invite them to attend.  We meet once a month for one hour from 9:00 am-10:00 am EST.
LOCATION:zoomwithdrroundtree.com
END:VEVENT
END:VCALENDAR