BEGIN:VCALENDAR
VERSION:2.0
BEGIN:VEVENT
URL:https://www.networkinaction.com/index.php/events/viewevent/9671-monthly-meeting?groupid=237 
DTSTART:20220713T140000
DTEND:20220713T150000
SUMMARY:Monthly Meeting
DESCRIPTION:Monthly meeting, regular time. Come along and meet the new members! First round on me as always.<br />
LOCATION:The Boiler Room, Robert's Alley, Fargo
END:VEVENT
END:VCALENDAR