BEGIN:VCALENDAR
VERSION:2.0
BEGIN:VEVENT
URL:https://www.networkinaction.com/index.php/events/viewevent/9621-cougar-connection-central-monthly-meeting-aug-10th?groupid=14 
DTSTART:20220810T153000
DTEND:20220810T170000
SUMMARY:Cougar Connection - Central Monthly Meeting - Aug 10th
DESCRIPTION:<p>Join us for our August Meeting!  We look forward to seeing you and our guests!  We have a great networking activity planned!  
</p><p>Please <strong>RSVP </strong>and if you can't come, please get a sub.
</p><p>Look forward to seeing everyone.</p>



LOCATION:Warehouse 72, 7620 Katy Fwy #305, Houston, TX 77024, USA
END:VEVENT
END:VCALENDAR