BEGIN:VCALENDAR
VERSION:2.0
BEGIN:VEVENT
URL:https://www.networkinaction.com/index.php/events/viewevent/9612-how-to-thrive-in-a-bad-economy-by-fixing-your-marketing?groupid=224 
DTSTART:20220712T100000
DTEND:20220712T113000
SUMMARY:How To Thrive In A Bad Economy By Fixing Your Marketing
DESCRIPTION:Network In Action PNW is proud to present marketing strategy and automation coach Scott Hartley.

In this fast-paced, jam-packed presentation, you'll discover:

▻ The CRITICAL "hole" in your marketing that's sending people to your competitors
▻ HOW to skip the trial-and-error and get your marketing into the hands of the RIGHT people the FIRST time
▻. Why people aren't excited about the FEATURES or BENEFITS of your product or service
▻. A simple, repeatable FORMULA any beginner can use RIGHT NOW to write ANY piece of marketing

And so much more than we can list here!

Join us for this free virtual event intended to provide value to business owners and decision-makers!

https://www.eventbrite.com/e/367119172327
LOCATION:Virtual
END:VEVENT
END:VCALENDAR