BEGIN:VCALENDAR
VERSION:2.0
BEGIN:VEVENT
URL:https://www.networkinaction.com/index.php/events/viewevent/9602-lunch-refresh?groupid=237 
DTSTART:20220624T120000
DTEND:20220624T130000
SUMMARY:Lunch & Refresh
DESCRIPTION:<p>Let's lunch and mastermind together on overcoming entrepreneurial burnout - vulnerability and solution-seeking required!</p><p>Food draws us together, so let's share and collaborate on the challenge we all face in our businesses: burnout.</p>
LOCATION:Beer & Fish Company 230 Roberts Alley Fargo ND
END:VEVENT
END:VCALENDAR