BEGIN:VCALENDAR
VERSION:2.0
BEGIN:VEVENT
URL:https://www.networkinaction.com/index.php/events/viewevent/9597-cougar-connection-monthly-meeting-jul-13th?groupid=14 
DTSTART:20220713T153000
DTEND:20220713T170000
SUMMARY:Cougar Connection Monthly Meeting - Jul 13th
DESCRIPTION:<p>Join us for our July Meeting!  We look forward to seeing you and our guests!  We have a great networking activity planned!  </p><p>Please RSVP and if you can't come, please get a sub.</p><br />Look forward to seeing everyone.
LOCATION:Warehouse 72 7620 Katy Freeway
END:VEVENT
END:VCALENDAR