BEGIN:VCALENDAR
VERSION:2.0
BEGIN:VEVENT
URL:https://www.networkinaction.com/index.php/events/viewevent/9578-launch-n-learn?groupid=136 
DTSTART:20220615T150000
DTEND:20220616T151500
SUMMARY:Launch 'n Learn
DESCRIPTION:<p>Invite other potential like-minded business professionals who would be great referral partners.  Share this link with them:  https://bit.ly/LaunchnLearn-NIA</p>
LOCATION:https://bit.ly/LaunchnLearn-NIA
END:VEVENT
END:VCALENDAR