BEGIN:VCALENDAR
VERSION:2.0
BEGIN:VEVENT
URL:https://www.networkinaction.com/index.php/events/viewevent/9574-nia-hendersonville-member-visitor-kickoff-meeting?groupid=252 
DTSTART:20220614T150000
DTEND:20220614T163000
SUMMARY:NIA - Hendersonville Member & Visitor Kickoff Meeting! 
DESCRIPTION:The 1st official NIA - Hendersonville Member Meeting at Demos' Restaurant in Hendersonville from 3:00-4:30.
Feel free to bring a guest and let Tracy know who that will be please! 😎
315-212-8187
LOCATION:Demos' Restaurant 161 Indian Lake Boulevard Hendersonville, TN 37075
END:VEVENT
END:VCALENDAR