BEGIN:VCALENDAR
VERSION:2.0
BEGIN:VEVENT
URL:https://www.networkinaction.com/index.php/events/viewevent/9540-monthly-meeting?groupid=163 
DTSTART:20220712T090000
DTEND:20220712T103000
SUMMARY:Monthly meeting
DESCRIPTION:July's monthly meeting changed dates due to the holiday.
LOCATION:Wilco Workspaces 1615 Scottsdale Dr #200A, Cedar Park, TX 78641
END:VEVENT
END:VCALENDAR