BEGIN:VCALENDAR
VERSION:2.0
BEGIN:VEVENT
URL:https://www.networkinaction.com/index.php/events/viewevent/9515-get-social-with-network-in-action-pnw?groupid=224 
DTSTART:20220616T153000
DTEND:20220616T170000
SUMMARY:Get Social with Network In Action PNW!
DESCRIPTION:Join our current members and guests for a social hour supporting local businesses.

Social Hour

Appetizers + drink provided. RSVP required. 

https://twigsbistro.com/locations-south-spokane#south-hill-info
LOCATION:Twigs Bistro & Martini Bar | 4320 S. Regal, Spokane, WA 99223
END:VEVENT
END:VCALENDAR