BEGIN:VCALENDAR
VERSION:2.0
BEGIN:VEVENT
URL:https://www.networkinaction.com/index.php/events/viewevent/9436-june-summer-business-happy-hour?groupid=14 
DTSTART:20220615T160000
DTEND:20220615T190000
SUMMARY:June Summer Business Happy Hour
DESCRIPTION:<p><span style="font-size: 14px;">Come mingle, socialize and make connections with UH alumni professionals, business owners and entrepreneurers at Warehouse 72 where you will find amazing happy hour drinks and bites in a very hip and fun environment. </span><br /></p><p>Joyce Wells of Cougar Connection and the combined four Cougar Connection groups are hosting this event on Wednesday, June 15th from 4:00 to 7:00.  </p><p>Our networking events are fun, friendly, engaging and a welcoming place to come to.  If you are looking for a way to connect with fellow UH alumni  to build relationships and grow your business, this is the place to be. </p><br />
LOCATION:Warehouse 72 7620 Katy Freeway, Houston, TX 77024
END:VEVENT
END:VCALENDAR