BEGIN:VCALENDAR
VERSION:2.0
BEGIN:VEVENT
URL:https://www.networkinaction.com/index.php/events/viewevent/9402-june-8th-monthly-meeting?groupid=14 
DTSTART:20220608T153000
DTEND:20220608T170000
SUMMARY:June 8th Monthly Meeting 
DESCRIPTION:<p>Look forward to seeing you at the June meeting!  Member speaker to be announced.  </p><p>We are having a great networking activity.</p><br /><p>Guests are welcome and you can always bring your sub.</p><br /><br />
LOCATION:Warehouse 72, 7620 Katy Fwy #305, Houston, TX 77024
END:VEVENT
END:VCALENDAR