BEGIN:VCALENDAR
VERSION:2.0
BEGIN:VEVENT
URL:https://www.networkinaction.com/index.php/events/viewevent/9399-mile-high-business-mixer-sponsored-by-nia?groupid=264 
DTSTART:20220602T173000
DTEND:20220602T193000
SUMMARY:Mile High Business Mixer sponsored by NIA
DESCRIPTION:<p>Networking allows you access to opportunities you might not be able to find on your own.
</p><p>Come mingle, socialize, and network with local professionals and entrepreneurs right after work. You’ll make great connections in a fun and relaxed atmosphere while expanding your network of contacts to help grow your business or move closer to your business goals.
</p><p>This is event is open to all Network in Action Members, guests and public. Event is free. Cash bar. 
</p><p>Join us for a fine evening of building quality connections with people who MAKE THINGS HAPPEN!
</p><p>Our networking events are a friendly, engaging and welcoming place to come to. If you are looking for a way to connect with the right people, build lasting relationships, and establish yourself in the Denver community...you should be here.
</p>
LOCATION:Dos Luces Brewery, 1236 S Broadway, Denver, CO 80210
END:VEVENT
END:VCALENDAR