BEGIN:VCALENDAR
VERSION:2.0
BEGIN:VEVENT
URL:https://www.networkinaction.com/index.php/events/viewevent/9370-june-heights-nia-3-00-pm?groupid=1 
DTSTART:20220609T150000
DTEND:20220609T161500
SUMMARY:June Heights NIA 3:00 pm 
DESCRIPTION:Have you accomplished halve of your goals? Lets discuss how to get back on track and leave with a plan 
LOCATION:7620 Katy Fwy #305, Houston, TX 77024
END:VEVENT
END:VCALENDAR