BEGIN:VCALENDAR
VERSION:2.0
BEGIN:VEVENT
URL:https://www.networkinaction.com/index.php/events/viewevent/9369-monthly-meeting?groupid=237 
DTSTART:20220608T140000
DTEND:20220608T153000
SUMMARY:Monthly Meeting
DESCRIPTION:Community is the engine that drives lasting transformation -- both for personal and business development. Let's make it happen!<br />
LOCATION:Teddy's Eatery & Parlor, 212 Broadway N, Fargo, ND 58102
END:VEVENT
END:VCALENDAR