BEGIN:VCALENDAR
VERSION:2.0
BEGIN:VEVENT
URL:https://www.networkinaction.com/index.php/events/viewevent/9368-launch-learn?groupid=237 
DTSTART:20220615T140000
DTEND:20220615T153000
SUMMARY:Launch & Learn
DESCRIPTION:<p><strong>Come network with business owners who are ready to help you grow your business!</strong></p><p>Come network with business owners who are intentional about helping you build relationships that last a lifetime! Our group is committed to helping you to create more warm leads that convert to sales. Check us out, your first visit is free!</p><p>Discover the new and powerful system for building your own authentic, healthy business network. Meet other entrepreneurial and community-minded business leaders in this professionally facilitated networking event. Cut through the noise with the power of relationships that last!<br /></p>
LOCATION:Teddy's Eatery & Parlor, 212 Broadway N, Fargo, ND 58102
END:VEVENT
END:VCALENDAR