BEGIN:VCALENDAR
VERSION:2.0
BEGIN:VEVENT
URL:https://www.networkinaction.com/index.php/events/viewevent/9350-cy-fair-connectors-june-meeting?groupid=12 
DTSTART:20220621T150000
DTEND:20220621T163000
SUMMARY:Cy-Fair Connectors June Meeting
DESCRIPTION:
LOCATION:World of Beer, 9945 Barker Cypress Rd., Cypress, 77433
END:VEVENT
END:VCALENDAR