BEGIN:VCALENDAR
VERSION:2.0
BEGIN:VEVENT
URL:https://www.networkinaction.com/index.php/events/viewevent/9347-young-professionals-connection-mixer-at-kathrin-s-biergarten 
DTSTART:20220525T170000
DTEND:20220525T200000
SUMMARY:Young Professionals Connection mixer at Kathrin's Biergarten
DESCRIPTION:<p>The mission of Young Professionals Connection is to promote a fun environment that inspires young professionals in the Roseville, Placer County area to succeed in their businesses for non realtors. This is a community for local business owners promoting their events, leaders, event coordinators, investors, influencers, tech startups, professionals in all industries already in the area or coming into the area. Free event. . Age 21+ .</p><p>This should be a great way to grow your business and meet other Placer County Business owners of all types. Casual event no need to dress up, nothing too serious. Light appetizers will be provided. Kathrin's  Biergarten has great food and drinks and a super fun outdoor biergarten area! We will have 2 local professionals in the community talking about their business journey. Please follow the establishments  Covid rules. Masks are optional.</p><p>IG tag: #YpConnectionPlacer</p><br /><p>Agenda</p><p>5pm-6pm mix/mingle, appetizers</p><p>6pm-6:30pm Panel of young professionals/sponsors </p><p>6:30pm-8:30pm mix/mingle</p><br /><p>Sponsors</p><p>Please support our amazing sponsors who help put together this event! Without them, this event would not be possible. They are very appreciated!</p><p>Jesse Gonzalez - Insurance Solutions - Bender Insurance Solutions - 916.622.1226</p><p>Jenelle McCallum - Home Guard - Assistant Sales Manager 530.848.6074</p><br /><p>Young Professional Connection panel</p><p>Kevin Hernandez - Appearances on Good Day Sacramento/former Roseville Chamber Director of events/Denio's events manager</p><br /><p>Marissa Brown - Marissa Kathleen Media</p><br /><br /><br /><p>This will be a monthly event at new fun breweries, lounges, restaurants, parks, outdoors locations etc. </p><br /><p>Also look out for our June mixer!</p><br /><p>**Be part of our community on social media!**</p><p>Join our Facebook page - Young Professionals Connection Placer County</p><p>Follow our IG page - YoungProConnection </p><br /><p>Contact Vince for questions and info! </p><p>Vince Gonzales</p><p>916.607.2114 cell</p>
LOCATION:Kathrins Biergarten 4810 Granite Dr A1, Rocklin, CA 95677
END:VEVENT
END:VCALENDAR