BEGIN:VCALENDAR
VERSION:2.0
BEGIN:VEVENT
URL:https://www.networkinaction.com/index.php/events/viewevent/9332-next-level-connections-helping-entrepreneurs-thrive?groupid=239 
DTSTART:20220524T163000
DTEND:20220524T173000
SUMMARY:Next Level Connections--Helping Entrepreneurs Thrive
DESCRIPTION:<p>Are you, or someone you know, a business owner, professional, or C-suite executive who is great at what they do, understands the value of building strong business relationships, & would like to increase their referral business?
</p>
<p>Are you ready for the next generation of business networking? Are you open to learning about a carefully crafted blend of high tech & high touch that has the potential to propel your business forward?
</p><p>If so, join us for Network In Action Global Partners' "Next Level Connections — Helping Entrepreneurs Thrive" event on Tuesday, May 10, 2022.
</p><p>Please add this event to your calendar.
</p><p>This session will provide an opportunity to do some speed networking, as well as learn the 6 major ways Network In Action is different from other business networking organizations.
</p><p>Your event co-hosts are:
</p><p>Nancy Baki — NIA Heart & Soul Connections
</p><p>Scott Bigley — NIA Florida Forever Forward
</p><p>Jennifer Elia — NIA Growth Minded Connections
</p><p>Randy Penner — NIA ROCK The Network
</p><p>We're looking forward to facilitating a great event, & growing our businesses together!
</p><p>If you are not a current Zoom user, you will be prompted to download the Zoom application onto your device, prior to entering the event, so please allow a few extra minutes for that.
</p><p>There is no charge to attend this event.</p>











LOCATION:Zoom
END:VEVENT
END:VCALENDAR