BEGIN:VCALENDAR
VERSION:2.0
BEGIN:VEVENT
URL:https://www.networkinaction.com/index.php/events/viewevent/9316-nia-mandatory-realtor-relocation-zoom-meeting?groupid=112 
DTSTART:20220713T103000
DTEND:20220713T113000
SUMMARY:NIA Mandatory REALTOR Relocation Zoom Meeting
DESCRIPTION:<p>NIA REALTOR RELOCATION MEETING 8:30 PST, 10:30 CST 11:30 EST mandatory meeting Please log on early. www.zoomwithniatc.com
</p>
<p>www.zoomwithniatc.com</p>
LOCATION:www.zoomwithniatc.com
END:VEVENT
END:VCALENDAR