BEGIN:VCALENDAR
VERSION:2.0
BEGIN:VEVENT
URL:https://www.networkinaction.com/index.php/events/viewevent/9288-next-level-connections-helping-entrepreneurs-thrive?groupid=238 
DTSTART:20220510T173000
DTEND:20220510T183000
SUMMARY:Next Level Connections — Helping Entrepreneurs Thrive
DESCRIPTION:<p>Do you understand the value of building strong business relationships?  Would like to increase your referral business to become more productive, efficient and profitable?</p>
<p>Are you ready for "next generation" business networking? Are you open to learning about a carefully crafted blend of high tech & high touch that has the potential to propel your business forward?
</p><p>If so, join us for Network In Action Global Partners' "Next Level Connections — Helping Entrepreneurs Thrive" event on Tuesday, May 10, 2022.
</p><p>Please add this event to your calendar.
</p><p>This session will provide an opportunity to do some speed networking, as well as learn the 6 major ways Network In Action is different from other business networking organizations.</p>



LOCATION:https://us02web.zoom.us/j/87946474359
END:VEVENT
END:VCALENDAR