BEGIN:VCALENDAR
VERSION:2.0
BEGIN:VEVENT
URL:https://www.networkinaction.com/index.php/events/viewevent/9285-cocktails-connection-and-collaboration-with-nia?groupid=196 
DTSTART:20220526T150000
DTEND:20220526T180000
SUMMARY:Cocktails Connection and Collaboration with NIA
DESCRIPTION:<p>Please register for the event on the link there is a cost to pay for the event.  There will be appetizers and a cash bar. 
</p>
<p>https://www.eventbrite.com/e/335493097887</p>
LOCATION:Bake's Place Bar & Bistro 155 108th Ave NE Ste 110, Bellevue, WA 98004 · 
END:VEVENT
END:VCALENDAR