BEGIN:VCALENDAR
VERSION:2.0
BEGIN:VEVENT
URL:https://www.networkinaction.com/index.php/events/viewevent/9235-heights-monthly-3-00?groupid=1 
DTSTART:20220512T150000
DTEND:20220512T163000
SUMMARY:Heights  Monthly 3:00 
DESCRIPTION:<p>A few protocols that are expected by all of us to ensure the success of every meeting. </p><p>Show up!</p><p>If you can not show up have a sub that will on stand by. </p><p>Call Scott early if you can not secure your own sub, I may be able to help you get one.</p><p>Be on time.</p><p>Stay till the end </p><p>Put your cell phone away </p><br /><p>Keep side conversations to a minimum when others are speaking</p><br /><p>Focus on how we can help each other as opposed to what we are getting. </p><br />I am committed to growing the group and visitors need to see how awesome we are when all are there and participating. 
LOCATION:warehouse 72 
END:VEVENT
END:VCALENDAR