BEGIN:VCALENDAR
VERSION:2.0
BEGIN:VEVENT
URL:https://www.networkinaction.com/index.php/events/viewevent/9222-yakima-nia-group-meeting?groupid=215 
DTSTART:20220511T150000
DTEND:20220511T163000
SUMMARY:Yakima - NIA Group Meeting
RRULE:FREQ=MONTHLY;UNTIL=20221214T000000
DESCRIPTION:<p>💡 If you're new to the group and don't remember the dates, times, or locations for your specific group, you can reach out to monica@niacentralwa.com - login to your NIA app, open your Group Page and look to the events listed in the side panel.<br /></p><p>Bring a guest and fill free to stay after the event for social time in the main area. </p><p>Please RSVP to confirm you WILL be attending, and even download an event reminder to your calendar from here.</p><br />


LOCATION:Norm's Restaurant  5 N Front St, Yakima, WA 98901
END:VEVENT
END:VCALENDAR