BEGIN:VCALENDAR
VERSION:2.0
BEGIN:VEVENT
URL:https://www.networkinaction.com/index.php/events/viewevent/9218-tacoma-in-happy-hour?groupid=196 
DTSTART:20220525T150000
DTEND:20220525T170000
SUMMARY:Tacoma in Happy Hour 
DESCRIPTION:<p>Come and meet other members and have some fun.  </p><p>Eventbrite link is below.  <br /><br /><p>https://www.eventbrite.com/e/331913952567</p><br /><p>Bring a friend for some fun, no agenda and just fun.</p><br /></p>
LOCATION:McMenamins 565 Broadway, Tacoma, WA 98402 
END:VEVENT
END:VCALENDAR