BEGIN:VCALENDAR
VERSION:2.0
BEGIN:VEVENT
URL:https://www.networkinaction.com/index.php/events/viewevent/9217-happy-hour-social-in-tacoma?groupid=196 
DTSTART:20220525T150000
DTEND:20220525T170000
SUMMARY:Happy Hour Social in Tacoma 
DESCRIPTION:<p>Here is a fun social event to connect with the other groups.  </p><p><br />Here is the Eventbrite group link: <br /><br /><p>https://www.eventbrite.com/e/331913952567 </p><br /><p>Come and bring a friend. </p></p>
LOCATION:McMenamins 565 Broadway, Tacoma, WA 98402 
END:VEVENT
END:VCALENDAR